BEGIN:VCALENDAR
VERSION:2.0
PRODID:-//ACAL Deuil La Barre - ECPv6.15.20//NONSGML v1.0//EN
CALSCALE:GREGORIAN
METHOD:PUBLISH
X-WR-CALNAME:ACAL Deuil La Barre
X-ORIGINAL-URL:https://acal-deuillabarre.fr
X-WR-CALDESC:Évènements pour ACAL Deuil La Barre
REFRESH-INTERVAL;VALUE=DURATION:PT1H
X-Robots-Tag:noindex
X-PUBLISHED-TTL:PT1H
BEGIN:VTIMEZONE
TZID:Europe/Paris
BEGIN:DAYLIGHT
TZOFFSETFROM:+0100
TZOFFSETTO:+0200
TZNAME:CEST
DTSTART:20250330T010000
END:DAYLIGHT
BEGIN:STANDARD
TZOFFSETFROM:+0200
TZOFFSETTO:+0100
TZNAME:CET
DTSTART:20251026T010000
END:STANDARD
BEGIN:DAYLIGHT
TZOFFSETFROM:+0100
TZOFFSETTO:+0200
TZNAME:CEST
DTSTART:20260329T010000
END:DAYLIGHT
BEGIN:STANDARD
TZOFFSETFROM:+0200
TZOFFSETTO:+0100
TZNAME:CET
DTSTART:20261025T010000
END:STANDARD
BEGIN:DAYLIGHT
TZOFFSETFROM:+0100
TZOFFSETTO:+0200
TZNAME:CEST
DTSTART:20270328T010000
END:DAYLIGHT
BEGIN:STANDARD
TZOFFSETFROM:+0200
TZOFFSETTO:+0100
TZNAME:CET
DTSTART:20271031T010000
END:STANDARD
END:VTIMEZONE
BEGIN:VEVENT
DTSTART;TZID=Europe/Paris:20260405T090000
DTEND;TZID=Europe/Paris:20260405T123000
DTSTAMP:20260423T203051
CREATED:20260331T160459Z
LAST-MODIFIED:20260331T160816Z
UID:19371-1775379600-1775392200@acal-deuillabarre.fr
SUMMARY:RANDO DOUCE - Auvers sur Oise
DESCRIPTION:Jean Pierre nous emmènera à Auvers sur Oise. \nRdv 1 : Gare de la Barre Ormesson à 9h00 \nRdv 2 : parking de la gare de Mériel à 9h40 \nNiveau de difficulté : 1-2 / Distance : 8 km \n  \n 
URL:https://acal-deuillabarre.fr/event/rando-douce-auvers-sur-oise-2/
LOCATION:Gare de La Barre Ormesson\, 2\, rue de la Concorde\, Deuil-la Barre\, 95170
CATEGORIES:Rando Douce
END:VEVENT
END:VCALENDAR