BEGIN:VCALENDAR
VERSION:2.0
PRODID:-//ACAL Deuil La Barre - ECPv6.15.20//NONSGML v1.0//EN
CALSCALE:GREGORIAN
METHOD:PUBLISH
X-ORIGINAL-URL:https://acal-deuillabarre.fr
X-WR-CALDESC:Évènements pour ACAL Deuil La Barre
REFRESH-INTERVAL;VALUE=DURATION:PT1H
X-Robots-Tag:noindex
X-PUBLISHED-TTL:PT1H
BEGIN:VTIMEZONE
TZID:Europe/Paris
BEGIN:DAYLIGHT
TZOFFSETFROM:+0100
TZOFFSETTO:+0200
TZNAME:CEST
DTSTART:20250330T010000
END:DAYLIGHT
BEGIN:STANDARD
TZOFFSETFROM:+0200
TZOFFSETTO:+0100
TZNAME:CET
DTSTART:20251026T010000
END:STANDARD
BEGIN:DAYLIGHT
TZOFFSETFROM:+0100
TZOFFSETTO:+0200
TZNAME:CEST
DTSTART:20260329T010000
END:DAYLIGHT
BEGIN:STANDARD
TZOFFSETFROM:+0200
TZOFFSETTO:+0100
TZNAME:CET
DTSTART:20261025T010000
END:STANDARD
BEGIN:DAYLIGHT
TZOFFSETFROM:+0100
TZOFFSETTO:+0200
TZNAME:CEST
DTSTART:20270328T010000
END:DAYLIGHT
BEGIN:STANDARD
TZOFFSETFROM:+0200
TZOFFSETTO:+0100
TZNAME:CET
DTSTART:20271031T010000
END:STANDARD
END:VTIMEZONE
BEGIN:VEVENT
DTSTART;TZID=Europe/Paris:20260315T090000
DTEND;TZID=Europe/Paris:20260315T123000
DTSTAMP:20260423T221129
CREATED:20260305T092425Z
LAST-MODIFIED:20260310T151135Z
UID:19133-1773565200-1773577800@acal-deuillabarre.fr
SUMMARY:RANDO DOUCE - L'abbaye et le château d'Hérivaux
DESCRIPTION:Jean Pierre nous emmènera sur un circuit où vous découvrirez les restes de l’ancienne abbaye\, le château et son parc\, le moulin et le sud de la forêt de Chantilly avec deux arbres amoureux remarquablement entrelacés. . \nRendez-vous N°1 : 9h00 au parking de la mairie  \nRendez-vous N°2: 9h30 sur le bas côté droit avant la ferme d’Hérivaux. \nNiveau de difficulté : 1-2 / Distance : 8 km / Covoiturage : 3€ \n  \n 
URL:https://acal-deuillabarre.fr/event/rando-douce-labbaye-et-le-chateau-dherivaux/
LOCATION:Ferme d’Hérivaux\, Luzarches\, 95270\, France
CATEGORIES:Rando Douce,RPMN
END:VEVENT
END:VCALENDAR