BEGIN:VCALENDAR
VERSION:2.0
PRODID:-//ACAL Deuil La Barre - ECPv6.15.20//NONSGML v1.0//EN
CALSCALE:GREGORIAN
METHOD:PUBLISH
X-ORIGINAL-URL:https://acal-deuillabarre.fr
X-WR-CALDESC:Évènements pour ACAL Deuil La Barre
REFRESH-INTERVAL;VALUE=DURATION:PT1H
X-Robots-Tag:noindex
X-PUBLISHED-TTL:PT1H
BEGIN:VTIMEZONE
TZID:Europe/Paris
BEGIN:DAYLIGHT
TZOFFSETFROM:+0100
TZOFFSETTO:+0200
TZNAME:CEST
DTSTART:20250330T010000
END:DAYLIGHT
BEGIN:STANDARD
TZOFFSETFROM:+0200
TZOFFSETTO:+0100
TZNAME:CET
DTSTART:20251026T010000
END:STANDARD
BEGIN:DAYLIGHT
TZOFFSETFROM:+0100
TZOFFSETTO:+0200
TZNAME:CEST
DTSTART:20260329T010000
END:DAYLIGHT
BEGIN:STANDARD
TZOFFSETFROM:+0200
TZOFFSETTO:+0100
TZNAME:CET
DTSTART:20261025T010000
END:STANDARD
BEGIN:DAYLIGHT
TZOFFSETFROM:+0100
TZOFFSETTO:+0200
TZNAME:CEST
DTSTART:20270328T010000
END:DAYLIGHT
BEGIN:STANDARD
TZOFFSETFROM:+0200
TZOFFSETTO:+0100
TZNAME:CET
DTSTART:20271031T010000
END:STANDARD
END:VTIMEZONE
BEGIN:VEVENT
DTSTART;TZID=Europe/Paris:20260308T090000
DTEND;TZID=Europe/Paris:20260308T123000
DTSTAMP:20260423T221108
CREATED:20260302T175935Z
LAST-MODIFIED:20260305T092630Z
UID:19069-1772960400-1772973000@acal-deuillabarre.fr
SUMMARY:RANDO DOUCE - Les bords de l'Oise à Pontoise
DESCRIPTION:Vanessa nous promènera le long de l’Oise dans sa traversée de l’agglomération de Pontoise. \nRendez-vous N°1 : 9h00 au parking de la mairie  \nRendez-vous N°2: 9h40 Chemin de la Pelouse au niveau du pont de l’A15 à Pontoise (95000) \nNiveau de difficulté : 1 / Distance : 8 km / Covoiturage : 3€ \n  \n 
URL:https://acal-deuillabarre.fr/event/rando-douce-les-bords-de-loise-a-pontoise/
LOCATION:Chemin de la Pelouse\, Chemin de la Pelouse\, PONTOISE\, 95000\, France
CATEGORIES:Rando Douce,RPMN
END:VEVENT
END:VCALENDAR