BEGIN:VCALENDAR
VERSION:2.0
PRODID:-//ACAL Deuil La Barre - ECPv6.15.20//NONSGML v1.0//EN
CALSCALE:GREGORIAN
METHOD:PUBLISH
X-WR-CALNAME:ACAL Deuil La Barre
X-ORIGINAL-URL:https://acal-deuillabarre.fr
X-WR-CALDESC:Évènements pour ACAL Deuil La Barre
REFRESH-INTERVAL;VALUE=DURATION:PT1H
X-Robots-Tag:noindex
X-PUBLISHED-TTL:PT1H
BEGIN:VTIMEZONE
TZID:Europe/Paris
BEGIN:DAYLIGHT
TZOFFSETFROM:+0100
TZOFFSETTO:+0200
TZNAME:CEST
DTSTART:20250330T010000
END:DAYLIGHT
BEGIN:STANDARD
TZOFFSETFROM:+0200
TZOFFSETTO:+0100
TZNAME:CET
DTSTART:20251026T010000
END:STANDARD
BEGIN:DAYLIGHT
TZOFFSETFROM:+0100
TZOFFSETTO:+0200
TZNAME:CEST
DTSTART:20260329T010000
END:DAYLIGHT
BEGIN:STANDARD
TZOFFSETFROM:+0200
TZOFFSETTO:+0100
TZNAME:CET
DTSTART:20261025T010000
END:STANDARD
BEGIN:DAYLIGHT
TZOFFSETFROM:+0100
TZOFFSETTO:+0200
TZNAME:CEST
DTSTART:20270328T010000
END:DAYLIGHT
BEGIN:STANDARD
TZOFFSETFROM:+0200
TZOFFSETTO:+0100
TZNAME:CET
DTSTART:20271031T010000
END:STANDARD
END:VTIMEZONE
BEGIN:VEVENT
DTSTART;TZID=Europe/Paris:20260301T090000
DTEND;TZID=Europe/Paris:20260301T123000
DTSTAMP:20260423T220759
CREATED:20260224T095137Z
LAST-MODIFIED:20260224T095137Z
UID:18982-1772355600-1772368200@acal-deuillabarre.fr
SUMMARY:RANDO DOUCE - Le parc Georges Valbon
DESCRIPTION:Françoise nous promènera sur les allées et les sentiers de ce grand parc paysagé du département voisin. \nRDV 1 : 9h00 au départ du tram train T11 à  la gare d’Epinay Villetaneuse \nRDV 2 : 9h30  au parking Tapis Vert 55 avenue Waldeck Rochet à La Courneuve. \nPrendre un AR Epinay Villetaneuse – Dugny La Courneuve. Tarification en fonction de votre Pass transport. \nNiveau de difficulté : 1 / Distance : 7 km \n  \n  \n 
URL:https://acal-deuillabarre.fr/event/rando-douce-le-parc-georges-valbon-5/
LOCATION:Parking Tapis vert\, 55 avenue Waldeck Rochet\, La Courneuve\, 93120\, France
CATEGORIES:Rando Douce
END:VEVENT
END:VCALENDAR