BEGIN:VCALENDAR
VERSION:2.0
PRODID:-//ACAL Deuil La Barre - ECPv6.15.20//NONSGML v1.0//EN
CALSCALE:GREGORIAN
METHOD:PUBLISH
X-ORIGINAL-URL:https://acal-deuillabarre.fr
X-WR-CALDESC:Évènements pour ACAL Deuil La Barre
REFRESH-INTERVAL;VALUE=DURATION:PT1H
X-Robots-Tag:noindex
X-PUBLISHED-TTL:PT1H
BEGIN:VTIMEZONE
TZID:Europe/Paris
BEGIN:DAYLIGHT
TZOFFSETFROM:+0100
TZOFFSETTO:+0200
TZNAME:CEST
DTSTART:20250330T010000
END:DAYLIGHT
BEGIN:STANDARD
TZOFFSETFROM:+0200
TZOFFSETTO:+0100
TZNAME:CET
DTSTART:20251026T010000
END:STANDARD
BEGIN:DAYLIGHT
TZOFFSETFROM:+0100
TZOFFSETTO:+0200
TZNAME:CEST
DTSTART:20260329T010000
END:DAYLIGHT
BEGIN:STANDARD
TZOFFSETFROM:+0200
TZOFFSETTO:+0100
TZNAME:CET
DTSTART:20261025T010000
END:STANDARD
BEGIN:DAYLIGHT
TZOFFSETFROM:+0100
TZOFFSETTO:+0200
TZNAME:CEST
DTSTART:20270328T010000
END:DAYLIGHT
BEGIN:STANDARD
TZOFFSETFROM:+0200
TZOFFSETTO:+0100
TZNAME:CET
DTSTART:20271031T010000
END:STANDARD
END:VTIMEZONE
BEGIN:VEVENT
DTSTART;TZID=Europe/Paris:20260208T090000
DTEND;TZID=Europe/Paris:20260208T123000
DTSTAMP:20260423T233907
CREATED:20260204T134541Z
LAST-MODIFIED:20260204T134815Z
UID:18833-1770541200-1770553800@acal-deuillabarre.fr
SUMMARY:RANDO DOUCE - La vallée du Sausseron
DESCRIPTION:Jean-Pierre nous baladera à la vallée du Sausseron. \nRv1 : parking de la mairie de Deuil à 9h00 \nRv2 : parking de la gare de Valmondois (95430) à 9h30  \nNiveau de difficulté : 1 / Distance : 7 km / Covoiturage : 3 € \n  \n 
URL:https://acal-deuillabarre.fr/event/rando-douce-la-vallee-du-sausseron-2/
LOCATION:Parking de la gare de Valmondois\, Avenue de la gare\, Butry sur Oise\, 95430\, France
CATEGORIES:Rando Douce
END:VEVENT
END:VCALENDAR