BEGIN:VCALENDAR
VERSION:2.0
PRODID:-//ACAL Deuil La Barre - ECPv6.15.20//NONSGML v1.0//EN
CALSCALE:GREGORIAN
METHOD:PUBLISH
X-ORIGINAL-URL:https://acal-deuillabarre.fr
X-WR-CALDESC:Évènements pour ACAL Deuil La Barre
REFRESH-INTERVAL;VALUE=DURATION:PT1H
X-Robots-Tag:noindex
X-PUBLISHED-TTL:PT1H
BEGIN:VTIMEZONE
TZID:Europe/Paris
BEGIN:DAYLIGHT
TZOFFSETFROM:+0100
TZOFFSETTO:+0200
TZNAME:CEST
DTSTART:20250330T010000
END:DAYLIGHT
BEGIN:STANDARD
TZOFFSETFROM:+0200
TZOFFSETTO:+0100
TZNAME:CET
DTSTART:20251026T010000
END:STANDARD
BEGIN:DAYLIGHT
TZOFFSETFROM:+0100
TZOFFSETTO:+0200
TZNAME:CEST
DTSTART:20260329T010000
END:DAYLIGHT
BEGIN:STANDARD
TZOFFSETFROM:+0200
TZOFFSETTO:+0100
TZNAME:CET
DTSTART:20261025T010000
END:STANDARD
BEGIN:DAYLIGHT
TZOFFSETFROM:+0100
TZOFFSETTO:+0200
TZNAME:CEST
DTSTART:20270328T010000
END:DAYLIGHT
BEGIN:STANDARD
TZOFFSETFROM:+0200
TZOFFSETTO:+0100
TZNAME:CET
DTSTART:20271031T010000
END:STANDARD
END:VTIMEZONE
BEGIN:VEVENT
DTSTART;TZID=Europe/Paris:20260125T090000
DTEND;TZID=Europe/Paris:20260125T130000
DTSTAMP:20260424T010226
CREATED:20260121T164534Z
LAST-MODIFIED:20260121T164534Z
UID:18696-1769331600-1769346000@acal-deuillabarre.fr
SUMMARY:RANDO DOUCE Les traces du REFOULON
DESCRIPTION:Vanessa nous fait la randonnée sur les traces du REFOULON \nRdv  :  gare de la Barre Ormesson à 9h00 pour un départ à pied. \nLe trajet se termine à la mairie de Deuil La Barre \nNiveau de difficulté : 1 /2  Longueur du parcours : 8 km                                     \n  \n                                                                              \n  \n 
URL:https://acal-deuillabarre.fr/event/rando-douce-les-traces-du-refoulone/
LOCATION:Gare de La Barre Ormesson\, 2\, rue de la Concorde\, Deuil-la Barre\, 95170
CATEGORIES:Rando Douce
END:VEVENT
END:VCALENDAR