BEGIN:VCALENDAR
VERSION:2.0
PRODID:-//ACAL Deuil La Barre - ECPv6.15.20//NONSGML v1.0//EN
CALSCALE:GREGORIAN
METHOD:PUBLISH
X-WR-CALNAME:ACAL Deuil La Barre
X-ORIGINAL-URL:https://acal-deuillabarre.fr
X-WR-CALDESC:Évènements pour ACAL Deuil La Barre
REFRESH-INTERVAL;VALUE=DURATION:PT1H
X-Robots-Tag:noindex
X-PUBLISHED-TTL:PT1H
BEGIN:VTIMEZONE
TZID:Europe/Paris
BEGIN:DAYLIGHT
TZOFFSETFROM:+0100
TZOFFSETTO:+0200
TZNAME:CEST
DTSTART:20240331T010000
END:DAYLIGHT
BEGIN:STANDARD
TZOFFSETFROM:+0200
TZOFFSETTO:+0100
TZNAME:CET
DTSTART:20241027T010000
END:STANDARD
BEGIN:DAYLIGHT
TZOFFSETFROM:+0100
TZOFFSETTO:+0200
TZNAME:CEST
DTSTART:20250330T010000
END:DAYLIGHT
BEGIN:STANDARD
TZOFFSETFROM:+0200
TZOFFSETTO:+0100
TZNAME:CET
DTSTART:20251026T010000
END:STANDARD
BEGIN:DAYLIGHT
TZOFFSETFROM:+0100
TZOFFSETTO:+0200
TZNAME:CEST
DTSTART:20260329T010000
END:DAYLIGHT
BEGIN:STANDARD
TZOFFSETFROM:+0200
TZOFFSETTO:+0100
TZNAME:CET
DTSTART:20261025T010000
END:STANDARD
END:VTIMEZONE
BEGIN:VEVENT
DTSTART;TZID=Europe/Paris:20251130T090000
DTEND;TZID=Europe/Paris:20251130T123000
DTSTAMP:20260424T040106
CREATED:20251124T145030Z
LAST-MODIFIED:20251124T145030Z
UID:18355-1764493200-1764505800@acal-deuillabarre.fr
SUMMARY:RANDO DOUCE- Ouest de Baillet en France
DESCRIPTION:Michel vous emmènera à Baillet sur un niveau circuit . Après avoir traversé le beau parc forestier de Baillet\, nous le continuerons en traversant une partie de la forêt de l’Isle-Adam et redescendrons sur Baillet après avoir franchi le célèbre pont d’Arcole. \nrdv1 : Parking de la mairie de Deuil à 9h. \nrdv2 : Parking de la mairie de Baillet à 9h30 \nCovoiturage : 2 € \nNiveau de difficulté : 1-2 / Distance :  8 km \nBâtons recommandés
URL:https://acal-deuillabarre.fr/event/rando-douce-ouest-de-baillet-en-france/
LOCATION:parking mairie baillet en france\, 1 rue Jean Nicolas\, Baillet en France\, 95560\, France
CATEGORIES:Rando Douce
END:VEVENT
END:VCALENDAR