BEGIN:VCALENDAR
VERSION:2.0
PRODID:-//ACAL Deuil La Barre - ECPv6.15.20//NONSGML v1.0//EN
CALSCALE:GREGORIAN
METHOD:PUBLISH
X-ORIGINAL-URL:https://acal-deuillabarre.fr
X-WR-CALDESC:Évènements pour ACAL Deuil La Barre
REFRESH-INTERVAL;VALUE=DURATION:PT1H
X-Robots-Tag:noindex
X-PUBLISHED-TTL:PT1H
BEGIN:VTIMEZONE
TZID:Europe/Paris
BEGIN:DAYLIGHT
TZOFFSETFROM:+0100
TZOFFSETTO:+0200
TZNAME:CEST
DTSTART:20240331T010000
END:DAYLIGHT
BEGIN:STANDARD
TZOFFSETFROM:+0200
TZOFFSETTO:+0100
TZNAME:CET
DTSTART:20241027T010000
END:STANDARD
BEGIN:DAYLIGHT
TZOFFSETFROM:+0100
TZOFFSETTO:+0200
TZNAME:CEST
DTSTART:20250330T010000
END:DAYLIGHT
BEGIN:STANDARD
TZOFFSETFROM:+0200
TZOFFSETTO:+0100
TZNAME:CET
DTSTART:20251026T010000
END:STANDARD
BEGIN:DAYLIGHT
TZOFFSETFROM:+0100
TZOFFSETTO:+0200
TZNAME:CEST
DTSTART:20260329T010000
END:DAYLIGHT
BEGIN:STANDARD
TZOFFSETFROM:+0200
TZOFFSETTO:+0100
TZNAME:CET
DTSTART:20261025T010000
END:STANDARD
END:VTIMEZONE
BEGIN:VEVENT
DTSTART;TZID=Europe/Paris:20250608T090000
DTEND;TZID=Europe/Paris:20250608T163000
DTSTAMP:20260424T120120
CREATED:20250602T162454Z
LAST-MODIFIED:20250602T162454Z
UID:17387-1749373200-1749400200@acal-deuillabarre.fr
SUMMARY:RANDO DOUCE - La vallée de l'Yerres et la maison Caillebotte
DESCRIPTION:ATTENTION : Par rapport au programme changement d’horaire et de distance. \nMichel nous emmènera à la journée dans l’Essonne à la découverte de la propriété du célèbre peintre Gustave Caillebotte. Nous longerons l’Yerres entre parcs et coulée verte puis le Réveillon plus sauvage avant de pique-niquer et se rendre à la propriété Caillebotte. \nRendez-vous gare du Nord face à la voie 34 à 9h00 \nNiveau de difficulté : 1 / Distance : 7 km \nPrendre un aller Brunoy et un retour de Yerres par RER D. \nVisite du parc et du potager : gratuit. \nVisite de la maison et expositions temporaires : 12€ (hors participation Acal). \nN’oubliez pas votre pique-nique sorti du sac sur le parcours. \n  \n 
URL:https://acal-deuillabarre.fr/event/rando-douce-la-vallee-de-lyerres-et-la-maison-caillebotte/
LOCATION:Gare du Nord\, rue de Dunkerque\, PARIS\, 75010\, France
CATEGORIES:Rando Douce,RPMN
END:VEVENT
END:VCALENDAR