BEGIN:VCALENDAR
VERSION:2.0
PRODID:-//ACAL Deuil La Barre - ECPv6.15.20//NONSGML v1.0//EN
CALSCALE:GREGORIAN
METHOD:PUBLISH
X-WR-CALNAME:ACAL Deuil La Barre
X-ORIGINAL-URL:https://acal-deuillabarre.fr
X-WR-CALDESC:Évènements pour ACAL Deuil La Barre
REFRESH-INTERVAL;VALUE=DURATION:PT1H
X-Robots-Tag:noindex
X-PUBLISHED-TTL:PT1H
BEGIN:VTIMEZONE
TZID:Europe/Paris
BEGIN:DAYLIGHT
TZOFFSETFROM:+0100
TZOFFSETTO:+0200
TZNAME:CEST
DTSTART:20240331T010000
END:DAYLIGHT
BEGIN:STANDARD
TZOFFSETFROM:+0200
TZOFFSETTO:+0100
TZNAME:CET
DTSTART:20241027T010000
END:STANDARD
BEGIN:DAYLIGHT
TZOFFSETFROM:+0100
TZOFFSETTO:+0200
TZNAME:CEST
DTSTART:20250330T010000
END:DAYLIGHT
BEGIN:STANDARD
TZOFFSETFROM:+0200
TZOFFSETTO:+0100
TZNAME:CET
DTSTART:20251026T010000
END:STANDARD
BEGIN:DAYLIGHT
TZOFFSETFROM:+0100
TZOFFSETTO:+0200
TZNAME:CEST
DTSTART:20260329T010000
END:DAYLIGHT
BEGIN:STANDARD
TZOFFSETFROM:+0200
TZOFFSETTO:+0100
TZNAME:CET
DTSTART:20261025T010000
END:STANDARD
END:VTIMEZONE
BEGIN:VEVENT
DTSTART;TZID=Europe/Paris:20250525T090000
DTEND;TZID=Europe/Paris:20250525T123000
DTSTAMP:20260424T133656
CREATED:20250519T160358Z
LAST-MODIFIED:20250520T114702Z
UID:17358-1748163600-1748176200@acal-deuillabarre.fr
SUMMARY:RANDO DOUCE - La vallée du Sausseron
DESCRIPTION:Jean-Pierre nous baladera le long de cette pittoresque petite rivière du Val d’Oise avec ses moulins et ses lavoirs. \nRv1 : parking de la mairie de Deuil à 9h00 \nRv2 : parking de la gare de Valmondois (95430) à 9h30  \nNiveau de difficulté : 1_2 / Distance : 8 km / Covoiturage : 3 € \n  \n 
URL:https://acal-deuillabarre.fr/event/rando-douce-la-vallee-du-sausseron/
LOCATION:Parking de la gare de Valmondois\, Avenue de la gare\, Butry sur Oise\, 95430\, France
CATEGORIES:Rando Douce,RPMN
END:VEVENT
END:VCALENDAR