BEGIN:VCALENDAR
VERSION:2.0
PRODID:-//ACAL Deuil La Barre - ECPv6.15.20//NONSGML v1.0//EN
CALSCALE:GREGORIAN
METHOD:PUBLISH
X-ORIGINAL-URL:https://acal-deuillabarre.fr
X-WR-CALDESC:Évènements pour ACAL Deuil La Barre
REFRESH-INTERVAL;VALUE=DURATION:PT1H
X-Robots-Tag:noindex
X-PUBLISHED-TTL:PT1H
BEGIN:VTIMEZONE
TZID:Europe/Paris
BEGIN:DAYLIGHT
TZOFFSETFROM:+0100
TZOFFSETTO:+0200
TZNAME:CEST
DTSTART:20240331T010000
END:DAYLIGHT
BEGIN:STANDARD
TZOFFSETFROM:+0200
TZOFFSETTO:+0100
TZNAME:CET
DTSTART:20241027T010000
END:STANDARD
BEGIN:DAYLIGHT
TZOFFSETFROM:+0100
TZOFFSETTO:+0200
TZNAME:CEST
DTSTART:20250330T010000
END:DAYLIGHT
BEGIN:STANDARD
TZOFFSETFROM:+0200
TZOFFSETTO:+0100
TZNAME:CET
DTSTART:20251026T010000
END:STANDARD
BEGIN:DAYLIGHT
TZOFFSETFROM:+0100
TZOFFSETTO:+0200
TZNAME:CEST
DTSTART:20260329T010000
END:DAYLIGHT
BEGIN:STANDARD
TZOFFSETFROM:+0200
TZOFFSETTO:+0100
TZNAME:CET
DTSTART:20261025T010000
END:STANDARD
END:VTIMEZONE
BEGIN:VEVENT
DTSTART;TZID=Europe/Paris:20250518T083000
DTEND;TZID=Europe/Paris:20250518T123000
DTSTAMP:20260424T134159
CREATED:20250512T155001Z
LAST-MODIFIED:20250513T093048Z
UID:17315-1747557000-1747571400@acal-deuillabarre.fr
SUMMARY:RANDO DOUCE - La Nonette à Gouvieux
DESCRIPTION:ATTENTION : Par rapport au programme changement d’animatrice\, d’horaire et de tarif. \nRaymonde nous emmènera à Gouvieux village troglodyte traversée par la rivière Nonette sur un circuit organisé avec ravitaillement par le club RCM (Réveil Cyclo Marche).  \nRv1 : parking de la mairie à 8h30 \nRv2 : parking du gymnase à 9h15 rue des Saulieu à Gouvieux (60270) \nNiveau de difficulté : 2 / Distance : 9 km / Covoiturage : 4 € \nParticipation à la rando : 4 € (hors participation Acal) \n  \n 
URL:https://acal-deuillabarre.fr/event/rando-douce-la-nonette-a-gouvieux/
LOCATION:Gymnase\, Rue des Saulieu\, GOUVIEUX\, 60270\, France
CATEGORIES:Rando Douce,RPMN
END:VEVENT
END:VCALENDAR