BEGIN:VCALENDAR
VERSION:2.0
PRODID:-//ACAL Deuil La Barre - ECPv6.15.20//NONSGML v1.0//EN
CALSCALE:GREGORIAN
METHOD:PUBLISH
X-WR-CALNAME:ACAL Deuil La Barre
X-ORIGINAL-URL:https://acal-deuillabarre.fr
X-WR-CALDESC:Évènements pour ACAL Deuil La Barre
REFRESH-INTERVAL;VALUE=DURATION:PT1H
X-Robots-Tag:noindex
X-PUBLISHED-TTL:PT1H
BEGIN:VTIMEZONE
TZID:Europe/Paris
BEGIN:DAYLIGHT
TZOFFSETFROM:+0100
TZOFFSETTO:+0200
TZNAME:CEST
DTSTART:20240331T010000
END:DAYLIGHT
BEGIN:STANDARD
TZOFFSETFROM:+0200
TZOFFSETTO:+0100
TZNAME:CET
DTSTART:20241027T010000
END:STANDARD
BEGIN:DAYLIGHT
TZOFFSETFROM:+0100
TZOFFSETTO:+0200
TZNAME:CEST
DTSTART:20250330T010000
END:DAYLIGHT
BEGIN:STANDARD
TZOFFSETFROM:+0200
TZOFFSETTO:+0100
TZNAME:CET
DTSTART:20251026T010000
END:STANDARD
BEGIN:DAYLIGHT
TZOFFSETFROM:+0100
TZOFFSETTO:+0200
TZNAME:CEST
DTSTART:20260329T010000
END:DAYLIGHT
BEGIN:STANDARD
TZOFFSETFROM:+0200
TZOFFSETTO:+0100
TZNAME:CET
DTSTART:20261025T010000
END:STANDARD
END:VTIMEZONE
BEGIN:VEVENT
DTSTART;TZID=Europe/Paris:20250511T090000
DTEND;TZID=Europe/Paris:20250511T123000
DTSTAMP:20260424T133654
CREATED:20250508T100619Z
LAST-MODIFIED:20250508T100619Z
UID:17269-1746954000-1746966600@acal-deuillabarre.fr
SUMMARY:RANDO DOUCE La mare aux Champeaux à Montmorency
DESCRIPTION:Vanessa nous fera une balade au bois… mare aux champeaux à Montmorency. \nRv1 : parking de la mairie à 9h00 \nRv2 : parking mare aux champeaux à 9h15 \nniveau de difficulté : 2 / Distance : 8 km \nCovoiturage : 2 € \n  \n 
URL:https://acal-deuillabarre.fr/event/rando-douce-la-mare-aux-champeaux-3/
LOCATION:Mare aux Champeaux\, 34 boulevard Maurice Berteaux\, Montmorency\, 95160\, France
CATEGORIES:Rando Douce
END:VEVENT
END:VCALENDAR