BEGIN:VCALENDAR
VERSION:2.0
PRODID:-//ACAL Deuil La Barre - ECPv6.15.20//NONSGML v1.0//EN
CALSCALE:GREGORIAN
METHOD:PUBLISH
X-ORIGINAL-URL:https://acal-deuillabarre.fr
X-WR-CALDESC:Évènements pour ACAL Deuil La Barre
REFRESH-INTERVAL;VALUE=DURATION:PT1H
X-Robots-Tag:noindex
X-PUBLISHED-TTL:PT1H
BEGIN:VTIMEZONE
TZID:Europe/Paris
BEGIN:DAYLIGHT
TZOFFSETFROM:+0100
TZOFFSETTO:+0200
TZNAME:CEST
DTSTART:20240331T010000
END:DAYLIGHT
BEGIN:STANDARD
TZOFFSETFROM:+0200
TZOFFSETTO:+0100
TZNAME:CET
DTSTART:20241027T010000
END:STANDARD
BEGIN:DAYLIGHT
TZOFFSETFROM:+0100
TZOFFSETTO:+0200
TZNAME:CEST
DTSTART:20250330T010000
END:DAYLIGHT
BEGIN:STANDARD
TZOFFSETFROM:+0200
TZOFFSETTO:+0100
TZNAME:CET
DTSTART:20251026T010000
END:STANDARD
BEGIN:DAYLIGHT
TZOFFSETFROM:+0100
TZOFFSETTO:+0200
TZNAME:CEST
DTSTART:20260329T010000
END:DAYLIGHT
BEGIN:STANDARD
TZOFFSETFROM:+0200
TZOFFSETTO:+0100
TZNAME:CET
DTSTART:20261025T010000
END:STANDARD
END:VTIMEZONE
BEGIN:VEVENT
DTSTART;TZID=Europe/Paris:20250330T090000
DTEND;TZID=Europe/Paris:20250330T123000
DTSTAMP:20260424T165040
CREATED:20250326T075639Z
LAST-MODIFIED:20250326T075639Z
UID:16986-1743325200-1743337800@acal-deuillabarre.fr
SUMMARY:RANDO DOUCE Promenade à Paris : Quartier Latin et Notre Dame de Paris
DESCRIPTION:Françoise nous emmène faire une balade à Paris : Quartier Latin et Notre Dame de Paris (Sans visite de la cathédrale) \nRdv : à la gare du Nord devant la voie 34 à 9h30 \nPrendre un billet Aller/Retour Paris \nNiveau de difficulté : 1 Distance : 7 km \nAttention au changement d’heure
URL:https://acal-deuillabarre.fr/event/rando-douce-promenade-a-paris-marais-quartier-latin-et-notre-dame-paris/
LOCATION:Gare du Nord\, rue de Dunkerque\, PARIS\, 75010\, France
CATEGORIES:Rando Douce
END:VEVENT
END:VCALENDAR