BEGIN:VCALENDAR
VERSION:2.0
PRODID:-//ACAL Deuil La Barre - ECPv6.15.20//NONSGML v1.0//EN
CALSCALE:GREGORIAN
METHOD:PUBLISH
X-WR-CALNAME:ACAL Deuil La Barre
X-ORIGINAL-URL:https://acal-deuillabarre.fr
X-WR-CALDESC:Évènements pour ACAL Deuil La Barre
REFRESH-INTERVAL;VALUE=DURATION:PT1H
X-Robots-Tag:noindex
X-PUBLISHED-TTL:PT1H
BEGIN:VTIMEZONE
TZID:Europe/Paris
BEGIN:DAYLIGHT
TZOFFSETFROM:+0100
TZOFFSETTO:+0200
TZNAME:CEST
DTSTART:20240331T010000
END:DAYLIGHT
BEGIN:STANDARD
TZOFFSETFROM:+0200
TZOFFSETTO:+0100
TZNAME:CET
DTSTART:20241027T010000
END:STANDARD
BEGIN:DAYLIGHT
TZOFFSETFROM:+0100
TZOFFSETTO:+0200
TZNAME:CEST
DTSTART:20250330T010000
END:DAYLIGHT
BEGIN:STANDARD
TZOFFSETFROM:+0200
TZOFFSETTO:+0100
TZNAME:CET
DTSTART:20251026T010000
END:STANDARD
BEGIN:DAYLIGHT
TZOFFSETFROM:+0100
TZOFFSETTO:+0200
TZNAME:CEST
DTSTART:20260329T010000
END:DAYLIGHT
BEGIN:STANDARD
TZOFFSETFROM:+0200
TZOFFSETTO:+0100
TZNAME:CET
DTSTART:20261025T010000
END:STANDARD
END:VTIMEZONE
BEGIN:VEVENT
DTSTART;TZID=Europe/Paris:20250323T090000
DTEND;TZID=Europe/Paris:20250323T123000
DTSTAMP:20260424T164524
CREATED:20250319T132012Z
LAST-MODIFIED:20250319T132012Z
UID:16879-1742720400-1742733000@acal-deuillabarre.fr
SUMMARY:RANDO DOUCE - Le parc Georges Valbon
DESCRIPTION:Bruno nous promènera au Parc Georges Valbon. Nous contournons la partie Nord du parc Georges Valbon de Stains vers Dugny et traversons des paysages variés\, des zones boisées et des lacs. \nRdv : 9h00 devant la gare Epinay Villetaneuse  \nPrendre un AR pour Stains La Cerisaie T11 \nNiveau de difficulté : 1-2 / Distance : 7 km \n  \n  \n 
URL:https://acal-deuillabarre.fr/event/rando-douce-le-parc-georges-valbon-3/
LOCATION:Gare d’Epinay Villetaneuse\, Route de Saint-Leu\, Epinay-sur-Seine\, 93800\, France
CATEGORIES:Rando Douce
END:VEVENT
END:VCALENDAR