BEGIN:VCALENDAR
VERSION:2.0
PRODID:-//ACAL Deuil La Barre - ECPv6.15.20//NONSGML v1.0//EN
CALSCALE:GREGORIAN
METHOD:PUBLISH
X-ORIGINAL-URL:https://acal-deuillabarre.fr
X-WR-CALDESC:Évènements pour ACAL Deuil La Barre
REFRESH-INTERVAL;VALUE=DURATION:PT1H
X-Robots-Tag:noindex
X-PUBLISHED-TTL:PT1H
BEGIN:VTIMEZONE
TZID:Europe/Paris
BEGIN:DAYLIGHT
TZOFFSETFROM:+0100
TZOFFSETTO:+0200
TZNAME:CEST
DTSTART:20240331T010000
END:DAYLIGHT
BEGIN:STANDARD
TZOFFSETFROM:+0200
TZOFFSETTO:+0100
TZNAME:CET
DTSTART:20241027T010000
END:STANDARD
BEGIN:DAYLIGHT
TZOFFSETFROM:+0100
TZOFFSETTO:+0200
TZNAME:CEST
DTSTART:20250330T010000
END:DAYLIGHT
BEGIN:STANDARD
TZOFFSETFROM:+0200
TZOFFSETTO:+0100
TZNAME:CET
DTSTART:20251026T010000
END:STANDARD
BEGIN:DAYLIGHT
TZOFFSETFROM:+0100
TZOFFSETTO:+0200
TZNAME:CEST
DTSTART:20260329T010000
END:DAYLIGHT
BEGIN:STANDARD
TZOFFSETFROM:+0200
TZOFFSETTO:+0100
TZNAME:CET
DTSTART:20261025T010000
END:STANDARD
END:VTIMEZONE
BEGIN:VEVENT
DTSTART;TZID=Europe/Paris:20250316T090000
DTEND;TZID=Europe/Paris:20250316T130000
DTSTAMP:20260424T165123
CREATED:20250311T164717Z
LAST-MODIFIED:20250315T161406Z
UID:16760-1742115600-1742130000@acal-deuillabarre.fr
SUMMARY:RANDONNEE DOUCE - Au bois des jonquilles à Senlis
DESCRIPTION:Jean Pierre nous emmène cueillir des jonquilles depuis les remparts de Senlis  \nRdv1 : Parking de la mairie à 9h00 \nRdv2 : Parking de la Gare routière de Senlis (60300) à 9h45 \nDifficulté : 1-2 pas de dénivelée / Distance : 9\,5 km \nCovoiturage : 4 €
URL:https://acal-deuillabarre.fr/event/randonnee-douce-au-bois-des-jonquilles-a-senlis/
LOCATION:parking de la gare routière de Senlis (60300).\, Senlis\, 60300\, France
CATEGORIES:Rando Douce
END:VEVENT
END:VCALENDAR