BEGIN:VCALENDAR
VERSION:2.0
PRODID:-//ACAL Deuil La Barre - ECPv6.15.20//NONSGML v1.0//EN
CALSCALE:GREGORIAN
METHOD:PUBLISH
X-ORIGINAL-URL:https://acal-deuillabarre.fr
X-WR-CALDESC:Évènements pour ACAL Deuil La Barre
REFRESH-INTERVAL;VALUE=DURATION:PT1H
X-Robots-Tag:noindex
X-PUBLISHED-TTL:PT1H
BEGIN:VTIMEZONE
TZID:Europe/Paris
BEGIN:DAYLIGHT
TZOFFSETFROM:+0100
TZOFFSETTO:+0200
TZNAME:CEST
DTSTART:20230326T010000
END:DAYLIGHT
BEGIN:STANDARD
TZOFFSETFROM:+0200
TZOFFSETTO:+0100
TZNAME:CET
DTSTART:20231029T010000
END:STANDARD
BEGIN:DAYLIGHT
TZOFFSETFROM:+0100
TZOFFSETTO:+0200
TZNAME:CEST
DTSTART:20240331T010000
END:DAYLIGHT
BEGIN:STANDARD
TZOFFSETFROM:+0200
TZOFFSETTO:+0100
TZNAME:CET
DTSTART:20241027T010000
END:STANDARD
BEGIN:DAYLIGHT
TZOFFSETFROM:+0100
TZOFFSETTO:+0200
TZNAME:CEST
DTSTART:20250330T010000
END:DAYLIGHT
BEGIN:STANDARD
TZOFFSETFROM:+0200
TZOFFSETTO:+0100
TZNAME:CET
DTSTART:20251026T010000
END:STANDARD
END:VTIMEZONE
BEGIN:VEVENT
DTSTART;TZID=Europe/Paris:20241020T090000
DTEND;TZID=Europe/Paris:20241020T130000
DTSTAMP:20260425T002936
CREATED:20241014T075609Z
LAST-MODIFIED:20241014T080021Z
UID:15429-1729414800-1729429200@acal-deuillabarre.fr
SUMMARY:RANDO DOUCE - Les coteaux de Saint Cloud
DESCRIPTION:Françoise nous emmènera du pont de St Cloud\, après avoir longé l’hippodrome\, vers le parc de St Cloud duquel vous découvrirez de belles vues sur Paris.  \nRdv : à la gare du Nord  à 9h00 devant la voie 34 \nPrendre un billet Aller/Retour Paris \nNiveau de difficulté : 1-2 / Distance : 7 km \nRetour tardif.
URL:https://acal-deuillabarre.fr/event/rando-douce-les-coteaux-de-saint-cloud/
LOCATION:Gare du Nord\, rue de Dunkerque\, PARIS\, 75010\, France
CATEGORIES:Rando Douce,RPMN
END:VEVENT
END:VCALENDAR