BEGIN:VCALENDAR
VERSION:2.0
PRODID:-//ACAL Deuil La Barre - ECPv6.15.20//NONSGML v1.0//EN
CALSCALE:GREGORIAN
METHOD:PUBLISH
X-ORIGINAL-URL:https://acal-deuillabarre.fr
X-WR-CALDESC:Évènements pour ACAL Deuil La Barre
REFRESH-INTERVAL;VALUE=DURATION:PT1H
X-Robots-Tag:noindex
X-PUBLISHED-TTL:PT1H
BEGIN:VTIMEZONE
TZID:Europe/Paris
BEGIN:DAYLIGHT
TZOFFSETFROM:+0100
TZOFFSETTO:+0200
TZNAME:CEST
DTSTART:20230326T010000
END:DAYLIGHT
BEGIN:STANDARD
TZOFFSETFROM:+0200
TZOFFSETTO:+0100
TZNAME:CET
DTSTART:20231029T010000
END:STANDARD
BEGIN:DAYLIGHT
TZOFFSETFROM:+0100
TZOFFSETTO:+0200
TZNAME:CEST
DTSTART:20240331T010000
END:DAYLIGHT
BEGIN:STANDARD
TZOFFSETFROM:+0200
TZOFFSETTO:+0100
TZNAME:CET
DTSTART:20241027T010000
END:STANDARD
BEGIN:DAYLIGHT
TZOFFSETFROM:+0100
TZOFFSETTO:+0200
TZNAME:CEST
DTSTART:20250330T010000
END:DAYLIGHT
BEGIN:STANDARD
TZOFFSETFROM:+0200
TZOFFSETTO:+0100
TZNAME:CET
DTSTART:20251026T010000
END:STANDARD
END:VTIMEZONE
BEGIN:VEVENT
DTSTART;TZID=Europe/Paris:20240526T090000
DTEND;TZID=Europe/Paris:20240526T123000
DTSTAMP:20260425T172946
CREATED:20240522T085456Z
LAST-MODIFIED:20240522T085456Z
UID:13660-1716714000-1716726600@acal-deuillabarre.fr
SUMMARY:RANDO DOUCE Valmondois à Parmain L'Isle Adam
DESCRIPTION:Françoise nous promènera à Valmondois à Parmain/L’Isle Adam \nRendez-vous à la gare de La Barre Ormesson à 9h00. \nNiveau de difficulté : 1-2 / Distance : 7 km \nPrendre un Aller Barre Ormesson-Valmondois et un Retour depuis Isle Adam-Barre Ormesson. \n  \n 
URL:https://acal-deuillabarre.fr/event/rando-douce-de-valmondois-a-parmain-2/
LOCATION:Gare de La Barre Ormesson\, 2\, rue de la Concorde\, Deuil-la Barre\, 95170
CATEGORIES:Rando Douce
END:VEVENT
END:VCALENDAR