BEGIN:VCALENDAR
VERSION:2.0
PRODID:-//ACAL Deuil La Barre - ECPv6.15.20//NONSGML v1.0//EN
CALSCALE:GREGORIAN
METHOD:PUBLISH
X-ORIGINAL-URL:https://acal-deuillabarre.fr
X-WR-CALDESC:Évènements pour ACAL Deuil La Barre
REFRESH-INTERVAL;VALUE=DURATION:PT1H
X-Robots-Tag:noindex
X-PUBLISHED-TTL:PT1H
BEGIN:VTIMEZONE
TZID:Europe/Paris
BEGIN:DAYLIGHT
TZOFFSETFROM:+0100
TZOFFSETTO:+0200
TZNAME:CEST
DTSTART:20240331T010000
END:DAYLIGHT
BEGIN:STANDARD
TZOFFSETFROM:+0200
TZOFFSETTO:+0100
TZNAME:CET
DTSTART:20241027T010000
END:STANDARD
BEGIN:DAYLIGHT
TZOFFSETFROM:+0100
TZOFFSETTO:+0200
TZNAME:CEST
DTSTART:20250330T010000
END:DAYLIGHT
BEGIN:STANDARD
TZOFFSETFROM:+0200
TZOFFSETTO:+0100
TZNAME:CET
DTSTART:20251026T010000
END:STANDARD
BEGIN:DAYLIGHT
TZOFFSETFROM:+0100
TZOFFSETTO:+0200
TZNAME:CEST
DTSTART:20260329T010000
END:DAYLIGHT
BEGIN:STANDARD
TZOFFSETFROM:+0200
TZOFFSETTO:+0100
TZNAME:CET
DTSTART:20261025T010000
END:STANDARD
END:VTIMEZONE
BEGIN:VEVENT
DTSTART;TZID=Europe/Paris:20251102T090000
DTEND;TZID=Europe/Paris:20251102T120000
DTSTAMP:20260424T022612
CREATED:20251029T133201Z
LAST-MODIFIED:20251029T133201Z
UID:18206-1762074000-1762084800@acal-deuillabarre.fr
SUMMARY:RANDONNEE DOUCE Bois de Boissy
DESCRIPTION:Nous ferons la randonnée avec Vanessa au bois de Boissy. \nRdv 1 : parking de la mairie à 9h00. \nRdv 2 : parking de la patinoire de Franconville à 9h30 \nAttention\, ce dimanche là\, le parking est occupé par une fête foraine\, il conviendra de se garer à proximité \nCovoiturage : 2€                                                                   \nNiveau de difficulté : 1 / Distance : 8 km \n 
URL:https://acal-deuillabarre.fr/event/randonnee-douce-bois-de-boissy/
LOCATION:Parking de patinoire de Franconville\, 25 Avenue des Marais\, Franconville\, 95130\, France
CATEGORIES:Rando Douce
END:VEVENT
BEGIN:VEVENT
DTSTART;TZID=Europe/Paris:20251109T090000
DTEND;TZID=Europe/Paris:20251109T120000
DTSTAMP:20260424T022612
CREATED:20251105T212521Z
LAST-MODIFIED:20251105T212736Z
UID:18240-1762678800-1762689600@acal-deuillabarre.fr
SUMMARY:RANDONNEE DOUCE le marais de Stors
DESCRIPTION:Jean Pierre nous conduira dans le marais de Stors. \nRdv 1 : parking de la mairie à 9h00. \nRdv 2 : parking de la gare de Mériel à 9h30 \nCovoiturage : 3€                                                                   \nNiveau de difficulté : 1-2 / Distance : 8 km \nLes bâtons sont conseillés \n 
URL:https://acal-deuillabarre.fr/event/randonnee-douce-le-marais-de-stors/
LOCATION:Parking de la gare de Mériel\, unnamed Road\, Mériel\, 95630\, France
CATEGORIES:Rando Douce
END:VEVENT
BEGIN:VEVENT
DTSTART;TZID=Europe/Paris:20251116T090500
DTEND;TZID=Europe/Paris:20251116T130000
DTSTAMP:20260424T022612
CREATED:20251111T205519Z
LAST-MODIFIED:20251112T171327Z
UID:18261-1763283900-1763298000@acal-deuillabarre.fr
SUMMARY:RANDO DOUCE Parcs autour du Plessis Robinson
DESCRIPTION:Bruno nous promène dans les différents parcs autour du Plessis Robinson. La fin de cette sortie passe par la vallée aux loups et une partie de son arboretum. \nRendez-vous à la gare du Nord face à la voie 34 à 9h05 \nAttention  : le 1er train en gare de la Barre Ormesson est 8h50 et 8h52 en gare d’Epinay Villetaneuse \nPrendre un ALLER – RETOUR Robinson. \nNiveau de difficulté : 2 / Longueur du parcours : 9 km                                     Le retour sera plus aux alentours de 13h30/14h \n  \n                                                                              \n  \n 
URL:https://acal-deuillabarre.fr/event/rando-douce-parcs-autour-de-plessis-robinson/
LOCATION:Gare du Nord\, rue de Dunkerque\, PARIS\, 75010\, France
CATEGORIES:Rando Douce
END:VEVENT
BEGIN:VEVENT
DTSTART;TZID=Europe/Paris:20251123T092000
DTEND;TZID=Europe/Paris:20251123T130000
DTSTAMP:20260424T022612
CREATED:20251119T210239Z
LAST-MODIFIED:20251123T155925Z
UID:18322-1763889600-1763902800@acal-deuillabarre.fr
SUMMARY:RANDO DOUCE Île des Ravageurs et le cimetière des chiens à Asnières sur Seine - ANNULEE
DESCRIPTION:Françoise nous fait promener à l’île des ravageurs et au cimetière des chiens à Asnières sur Seine \nRdv  :  gare de la Barre Ormesson à 9h20  \nL’entrée au cimetière des chiens : 3\,5€. Pour 10 personnes\, le prix de billet : 3€ \nPrévoir un retour tardif \nNiveau de difficulté : 1 / Longueur du parcours : 8 km                                     \n  \n                                                                              \n  \n 
URL:https://acal-deuillabarre.fr/event/rando-douce-ile-des-ravageurs-et-le-cimetiere-des-chiens-a-asnieres-sur-seine/
LOCATION:Gare de La Barre Ormesson\, 2\, rue de la Concorde\, Deuil-la Barre\, 95170
CATEGORIES:Rando Douce
END:VEVENT
BEGIN:VEVENT
DTSTART;TZID=Europe/Paris:20251130T090000
DTEND;TZID=Europe/Paris:20251130T123000
DTSTAMP:20260424T022612
CREATED:20251124T145030Z
LAST-MODIFIED:20251124T145030Z
UID:18355-1764493200-1764505800@acal-deuillabarre.fr
SUMMARY:RANDO DOUCE- Ouest de Baillet en France
DESCRIPTION:Michel vous emmènera à Baillet sur un niveau circuit . Après avoir traversé le beau parc forestier de Baillet\, nous le continuerons en traversant une partie de la forêt de l’Isle-Adam et redescendrons sur Baillet après avoir franchi le célèbre pont d’Arcole. \nrdv1 : Parking de la mairie de Deuil à 9h. \nrdv2 : Parking de la mairie de Baillet à 9h30 \nCovoiturage : 2 € \nNiveau de difficulté : 1-2 / Distance :  8 km \nBâtons recommandés
URL:https://acal-deuillabarre.fr/event/rando-douce-ouest-de-baillet-en-france/
LOCATION:parking mairie baillet en france\, 1 rue Jean Nicolas\, Baillet en France\, 95560\, France
CATEGORIES:Rando Douce
END:VEVENT
END:VCALENDAR