BEGIN:VCALENDAR
VERSION:2.0
PRODID:-//ACAL Deuil La Barre - ECPv6.15.20//NONSGML v1.0//EN
CALSCALE:GREGORIAN
METHOD:PUBLISH
X-WR-CALNAME:ACAL Deuil La Barre
X-ORIGINAL-URL:https://acal-deuillabarre.fr
X-WR-CALDESC:Évènements pour ACAL Deuil La Barre
REFRESH-INTERVAL;VALUE=DURATION:PT1H
X-Robots-Tag:noindex
X-PUBLISHED-TTL:PT1H
BEGIN:VTIMEZONE
TZID:Europe/Paris
BEGIN:DAYLIGHT
TZOFFSETFROM:+0100
TZOFFSETTO:+0200
TZNAME:CEST
DTSTART:20240331T010000
END:DAYLIGHT
BEGIN:STANDARD
TZOFFSETFROM:+0200
TZOFFSETTO:+0100
TZNAME:CET
DTSTART:20241027T010000
END:STANDARD
BEGIN:DAYLIGHT
TZOFFSETFROM:+0100
TZOFFSETTO:+0200
TZNAME:CEST
DTSTART:20250330T010000
END:DAYLIGHT
BEGIN:STANDARD
TZOFFSETFROM:+0200
TZOFFSETTO:+0100
TZNAME:CET
DTSTART:20251026T010000
END:STANDARD
BEGIN:DAYLIGHT
TZOFFSETFROM:+0100
TZOFFSETTO:+0200
TZNAME:CEST
DTSTART:20260329T010000
END:DAYLIGHT
BEGIN:STANDARD
TZOFFSETFROM:+0200
TZOFFSETTO:+0100
TZNAME:CET
DTSTART:20261025T010000
END:STANDARD
END:VTIMEZONE
BEGIN:VEVENT
DTSTART;TZID=Europe/Paris:20251005T090500
DTEND;TZID=Europe/Paris:20251005T130000
DTSTAMP:20260424T035458
CREATED:20251001T144124Z
LAST-MODIFIED:20251001T144124Z
UID:18064-1759655100-1759669200@acal-deuillabarre.fr
SUMMARY:RANDO DOUCE - Canal de l'Ourcq Bobigny - Raincy
DESCRIPTION:Bruno  nous propose de faire une randonnée de Bobigny au Raincy via le canal de l’Ourcq   \nRendez-vous à 9h05 à la gare du Nord face à la voie 34.  \nPour information\, la circulation des trains démarrera à partir de 8h50.\nLes seules gares permettant d’arriver à la gare du Nord à 9h05 sont (La Barre Ormesson\, départ à 8h50 et Epinay Villetaneuse\, départ à 8h52). \nPrévoir un aller Bobigny Pablo Picasso et un retour de Le Raincy Villemomble Montfermeil. \nNiveau de difficulté : 1-2 / Distance : 7 km \n  \n  \n 
URL:https://acal-deuillabarre.fr/event/rando-douce-canal-ourcq-bibigny-raincy/
LOCATION:Gare du Nord\, rue de Dunkerque\, PARIS\, 75010\, France
CATEGORIES:Rando Douce
END:VEVENT
BEGIN:VEVENT
DTSTART;TZID=Europe/Paris:20251012T090000
DTEND;TZID=Europe/Paris:20251012T123000
DTSTAMP:20260424T035458
CREATED:20251007T160839Z
LAST-MODIFIED:20251007T161117Z
UID:18088-1760259600-1760272200@acal-deuillabarre.fr
SUMMARY:RANDO DOUCE - La butte Pinson
DESCRIPTION:Vanessa nous mènera à la butte pinson qui donne de belles vues sur notre banlieue. \nRendez-vous parking de la mairie de Deuil La Barre à 9h00 pour un départ à pied. \nNiveau de difficulté : 1 / Distance : 6\,5 km \n  \n 
URL:https://acal-deuillabarre.fr/event/rando-douce-la-butte-pinson-4/
LOCATION:Parking de la Marie\, 36 rue Charles de Gaulle\, Deuil La Barre\, 95170\, France
CATEGORIES:Rando Douce
END:VEVENT
BEGIN:VEVENT
DTSTART;TZID=Europe/Paris:20251019T090000
DTEND;TZID=Europe/Paris:20251019T120000
DTSTAMP:20260424T035458
CREATED:20251015T164915Z
LAST-MODIFIED:20251015T164915Z
UID:18112-1760864400-1760875200@acal-deuillabarre.fr
SUMMARY:RANDONNEE DOUCE Maison Forestière - Nerville la forêt
DESCRIPTION:Vanessa nous emmène à la maison forestière-Nerville la forêt. \nRdv 1 : parking de la mairie à 9h00. \nRdv 2 : parking de maison forestière du bois carreau à 9h30 \nCovoiturage : 3€ \nNiveau de difficulté : 1-2 / Distance : 7-8 km \n 
URL:https://acal-deuillabarre.fr/event/randonnee-douce-maison-forestiere-nerville-la-foret/
LOCATION:Maison forestière du Bois Carreau\, 97 D64\, Nerville-la-Forêt\, 95590\, France
CATEGORIES:Rando Douce
END:VEVENT
BEGIN:VEVENT
DTSTART;TZID=Europe/Paris:20251026T090000
DTEND;TZID=Europe/Paris:20251026T130000
DTSTAMP:20260424T035458
CREATED:20251022T091931Z
LAST-MODIFIED:20251022T091931Z
UID:18164-1761469200-1761483600@acal-deuillabarre.fr
SUMMARY:RANDONNEE DOUCE Les étangs de Cergy Vauréal
DESCRIPTION:Jean Pierre nous emmènera aux étangs de Cergy Vauréal. \nRdv 1 : parking de la mairie à 9h00  \nRdv 2 : sur place parking de l’église de nativité à jouy-le-Moutier à 9h45 . \nNiveau de difficulté : 1-2 / Longueur du parcours : 8 km  \nATTENTION AU CHANGEMENT D’HEURE \nCovoiturage : 4 € \n  \n 
URL:https://acal-deuillabarre.fr/event/randonnee-douce-les-etangs-de-cergy-vaureal/
LOCATION:Parking de l’Eglise de la Nativité à Jouy le Moutier\, 33 Rue Gabriel Lainé\, Jouy le Moutier\, Val d'Oise\, 95280\, France
CATEGORIES:Rando Douce
END:VEVENT
END:VCALENDAR