BEGIN:VCALENDAR
VERSION:2.0
PRODID:-//ACAL Deuil La Barre - ECPv6.15.20//NONSGML v1.0//EN
CALSCALE:GREGORIAN
METHOD:PUBLISH
X-WR-CALNAME:ACAL Deuil La Barre
X-ORIGINAL-URL:https://acal-deuillabarre.fr
X-WR-CALDESC:Évènements pour ACAL Deuil La Barre
REFRESH-INTERVAL;VALUE=DURATION:PT1H
X-Robots-Tag:noindex
X-PUBLISHED-TTL:PT1H
BEGIN:VTIMEZONE
TZID:Europe/Paris
BEGIN:DAYLIGHT
TZOFFSETFROM:+0100
TZOFFSETTO:+0200
TZNAME:CEST
DTSTART:20240331T010000
END:DAYLIGHT
BEGIN:STANDARD
TZOFFSETFROM:+0200
TZOFFSETTO:+0100
TZNAME:CET
DTSTART:20241027T010000
END:STANDARD
BEGIN:DAYLIGHT
TZOFFSETFROM:+0100
TZOFFSETTO:+0200
TZNAME:CEST
DTSTART:20250330T010000
END:DAYLIGHT
BEGIN:STANDARD
TZOFFSETFROM:+0200
TZOFFSETTO:+0100
TZNAME:CET
DTSTART:20251026T010000
END:STANDARD
BEGIN:DAYLIGHT
TZOFFSETFROM:+0100
TZOFFSETTO:+0200
TZNAME:CEST
DTSTART:20260329T010000
END:DAYLIGHT
BEGIN:STANDARD
TZOFFSETFROM:+0200
TZOFFSETTO:+0100
TZNAME:CET
DTSTART:20261025T010000
END:STANDARD
END:VTIMEZONE
BEGIN:VEVENT
DTSTART;TZID=Europe/Paris:20250706T083000
DTEND;TZID=Europe/Paris:20250706T123000
DTSTAMP:20260424T083943
CREATED:20250701T144530Z
LAST-MODIFIED:20250701T144530Z
UID:17636-1751790600-1751805000@acal-deuillabarre.fr
SUMMARY:RANDO DOUCE Les boucles de la Marne
DESCRIPTION:Bruno nous fait découvrir les boucles de la Marne de Joinville à Neuilly-Plaisance. \nRdv : à la gare du Nord devant la voie 34 à 8h30 \nPrendre un billet Aller/Retour. \nAller : Joinville le Pont \nRetour : Neuilly-Plaisance \nNiveau de difficulté : 1 / Distance : 8 km
URL:https://acal-deuillabarre.fr/event/rando-douce-les-boucles-de-la-marne/
LOCATION:Gare du Nord\, rue de Dunkerque\, PARIS\, 75010\, France
CATEGORIES:Rando Douce
END:VEVENT
BEGIN:VEVENT
DTSTART;TZID=Europe/Paris:20250720T090000
DTEND;TZID=Europe/Paris:20250720T123000
DTSTAMP:20260424T083943
CREATED:20250716T200926Z
LAST-MODIFIED:20250716T200926Z
UID:17764-1753002000-1753014600@acal-deuillabarre.fr
SUMMARY:RANDO DOUCE - Le parc Georges Valbon
DESCRIPTION:Françoise nous promènera au Parc Georges Valbon \nRDV  : 9h00 devant la gare T11 à Epinay Villetaneuse \nPrendre un AR Epinay Villetaneuse – La Cerisaie T11 \nNiveau de difficulté : 1 / Distance : 7 km \n  \n  \n 
URL:https://acal-deuillabarre.fr/event/rando-douce-le-parc-georges-valbon-4/
LOCATION:Gare de Stains La Cerisaie\, Stains La Cerisaie\, Stains\, 93240\, France
CATEGORIES:Rando Douce
END:VEVENT
BEGIN:VEVENT
DTSTART;TZID=Europe/Paris:20250727T090000
DTEND;TZID=Europe/Paris:20250727T130000
DTSTAMP:20260424T083943
CREATED:20250724T090137Z
LAST-MODIFIED:20250724T090137Z
UID:17779-1753606800-1753621200@acal-deuillabarre.fr
SUMMARY:RANDO DOUCE - Les étangs de Commelles
DESCRIPTION:Vanessa et Jean Pierre  nous promèneront autour des étangs de Commelles. \nRendez-vous parking de la mairie à 9h00. \nNiveau de difficulté : 1/2 \n Distance: 8km \nCovoiturage : 4 € \n  \n 
URL:https://acal-deuillabarre.fr/event/rando-douce-les-etangs-de-commelles/
LOCATION:Parking de la Marie\, 36 rue Charles de Gaulle\, Deuil La Barre\, 95170\, France
CATEGORIES:Rando Douce
END:VEVENT
END:VCALENDAR