BEGIN:VCALENDAR
VERSION:2.0
PRODID:-//ACAL Deuil La Barre - ECPv6.15.20//NONSGML v1.0//EN
CALSCALE:GREGORIAN
METHOD:PUBLISH
X-WR-CALNAME:ACAL Deuil La Barre
X-ORIGINAL-URL:https://acal-deuillabarre.fr
X-WR-CALDESC:Évènements pour ACAL Deuil La Barre
REFRESH-INTERVAL;VALUE=DURATION:PT1H
X-Robots-Tag:noindex
X-PUBLISHED-TTL:PT1H
BEGIN:VTIMEZONE
TZID:Europe/Paris
BEGIN:DAYLIGHT
TZOFFSETFROM:+0100
TZOFFSETTO:+0200
TZNAME:CEST
DTSTART:20240331T010000
END:DAYLIGHT
BEGIN:STANDARD
TZOFFSETFROM:+0200
TZOFFSETTO:+0100
TZNAME:CET
DTSTART:20241027T010000
END:STANDARD
BEGIN:DAYLIGHT
TZOFFSETFROM:+0100
TZOFFSETTO:+0200
TZNAME:CEST
DTSTART:20250330T010000
END:DAYLIGHT
BEGIN:STANDARD
TZOFFSETFROM:+0200
TZOFFSETTO:+0100
TZNAME:CET
DTSTART:20251026T010000
END:STANDARD
BEGIN:DAYLIGHT
TZOFFSETFROM:+0100
TZOFFSETTO:+0200
TZNAME:CEST
DTSTART:20260329T010000
END:DAYLIGHT
BEGIN:STANDARD
TZOFFSETFROM:+0200
TZOFFSETTO:+0100
TZNAME:CET
DTSTART:20261025T010000
END:STANDARD
END:VTIMEZONE
BEGIN:VEVENT
DTSTART;TZID=Europe/Paris:20250406T090000
DTEND;TZID=Europe/Paris:20250406T123000
DTSTAMP:20260424T133116
CREATED:20250402T140348Z
LAST-MODIFIED:20250402T140348Z
UID:17015-1743930000-1743942600@acal-deuillabarre.fr
SUMMARY:RANDO DOUCE - La butte Pinson
DESCRIPTION:Vanessa nous baladera sur la butte pinson qui donne de belles vues sur notre banlieue. \nRendez-vous parking de la mairie de Deuil La Barre à 9h00 pour un départ à pied. \nNiveau de difficulté : 1-2 / Distance : 9 km \n  \n 
URL:https://acal-deuillabarre.fr/event/rando-douce-la-butte-pinson-3/
LOCATION:Parking de la Marie\, 36 rue Charles de Gaulle\, Deuil La Barre\, 95170\, France
CATEGORIES:Rando Douce
END:VEVENT
BEGIN:VEVENT
DTSTART;TZID=Europe/Paris:20250413T083000
DTEND;TZID=Europe/Paris:20250413T133000
DTSTAMP:20260424T133116
CREATED:20250408T094212Z
LAST-MODIFIED:20250408T094212Z
UID:17077-1744533000-1744551000@acal-deuillabarre.fr
SUMMARY:RANDONNEE DOUCE La croix des verts
DESCRIPTION:Rando douce commune avec les pédestres. Raymonde nous fera suivre l’ancienne ligne de chemin de fer Valmondois-Marines et découvrir la vallée du Sausseron et ses vieux moulins. \nRendez-vous parking de la mairie à 8h30  \nRendez-vous sur place à 9h00 au parking de la gare de Valmondois (95430). \nNiveau de difficulté : 1/2 / Longueur du parcours : 9 km  \nCovoiturage : 3 € \n  \n 
URL:https://acal-deuillabarre.fr/event/randonnee-pedestre-la-croix-des-verts-3/
LOCATION:Parking de la gare de Valmondois\, Avenue de la gare\, Butry sur Oise\, 95430\, France
CATEGORIES:Rando Douce
END:VEVENT
BEGIN:VEVENT
DTSTART;TZID=Europe/Paris:20250420T090000
DTEND;TZID=Europe/Paris:20250420T120000
DTSTAMP:20260424T133116
CREATED:20250416T131403Z
LAST-MODIFIED:20250416T131616Z
UID:17187-1745139600-1745150400@acal-deuillabarre.fr
SUMMARY:RANDO DOUCE - Le parc des Chanteraines
DESCRIPTION:Françoise nous emmène faire une balade au parc départemental des Chanteraines  à Villeneuve La Garenne \nRdv1 : Parking de la mairie à 9h00 \nRdv2 : Parking du cirque au parc à 9h15 \nCoût de covoiturage : 2€ \nNiveau de difficulté : 1/  Longueur du parcours : 7 km  \n  \n 
URL:https://acal-deuillabarre.fr/event/rando-douce-le-parc-des-chanteraines-3/
LOCATION:parc départemental de Chantereines Villeneuve La Garenne\, 115 bd Charles de Gaulle\, Villeneuve la Garenne\, 92390\, France
CATEGORIES:Rando Douce,RPMN
END:VEVENT
BEGIN:VEVENT
DTSTART;TZID=Europe/Paris:20250427T090000
DTEND;TZID=Europe/Paris:20250427T123000
DTSTAMP:20260424T133116
CREATED:20250424T082453Z
LAST-MODIFIED:20250424T082453Z
UID:17247-1745744400-1745757000@acal-deuillabarre.fr
SUMMARY:RANDO DOUCE- Autour de Baillet en France
DESCRIPTION:Jean Pierre vous fera découvrir la ville de Baillet en France. \nRdv 1 : Parking de à la mairie à 9h00. \nRdv 2 : Parking de la mairie à 9h30 1 rue Jean Nicolas à Baillet (95560). \nCovoiturage : 2 € \nNiveau de difficulté : 1-2 / Distance :  8 km
URL:https://acal-deuillabarre.fr/event/rando-douce-autour-de-baillet-en-france/
LOCATION:parking mairie baillet en france\, 1 rue Jean Nicolas\, Baillet en France\, 95560\, France
CATEGORIES:Rando Douce
END:VEVENT
END:VCALENDAR