BEGIN:VCALENDAR
VERSION:2.0
PRODID:-//ACAL Deuil La Barre - ECPv6.15.20//NONSGML v1.0//EN
CALSCALE:GREGORIAN
METHOD:PUBLISH
X-ORIGINAL-URL:https://acal-deuillabarre.fr
X-WR-CALDESC:Évènements pour ACAL Deuil La Barre
REFRESH-INTERVAL;VALUE=DURATION:PT1H
X-Robots-Tag:noindex
X-PUBLISHED-TTL:PT1H
BEGIN:VTIMEZONE
TZID:Europe/Paris
BEGIN:DAYLIGHT
TZOFFSETFROM:+0100
TZOFFSETTO:+0200
TZNAME:CEST
DTSTART:20230326T010000
END:DAYLIGHT
BEGIN:STANDARD
TZOFFSETFROM:+0200
TZOFFSETTO:+0100
TZNAME:CET
DTSTART:20231029T010000
END:STANDARD
BEGIN:DAYLIGHT
TZOFFSETFROM:+0100
TZOFFSETTO:+0200
TZNAME:CEST
DTSTART:20240331T010000
END:DAYLIGHT
BEGIN:STANDARD
TZOFFSETFROM:+0200
TZOFFSETTO:+0100
TZNAME:CET
DTSTART:20241027T010000
END:STANDARD
BEGIN:DAYLIGHT
TZOFFSETFROM:+0100
TZOFFSETTO:+0200
TZNAME:CEST
DTSTART:20250330T010000
END:DAYLIGHT
BEGIN:STANDARD
TZOFFSETFROM:+0200
TZOFFSETTO:+0100
TZNAME:CET
DTSTART:20251026T010000
END:STANDARD
END:VTIMEZONE
BEGIN:VEVENT
DTSTART;TZID=Europe/Paris:20241201T090000
DTEND;TZID=Europe/Paris:20241201T123000
DTSTAMP:20260424T194047
CREATED:20241127T200851Z
LAST-MODIFIED:20241127T215517Z
UID:15847-1733043600-1733056200@acal-deuillabarre.fr
SUMMARY:RANDO DOUCE - Forêt Écouen
DESCRIPTION:Bruno nous emmène faire une balade en partant de St Brice Sous Forêt par un petit chemin qui nous mènera à la rivière Le Petit Rosne que nous suivrons jusqu’au Nord-Ouest de la forêt d’Ecouen. Nous monterons au Château d’Ecouen puis nous redescendront jusqu’à la gare d’Ecouen Ezanville où se terminera cette randonnée. \nRdv : Gare Deuil Montmagny pour un départ à 8h47. \nBillets : un Aller Deuil Montmagny- Sarcelles-St Brice et un Retour  Écouen Ézanville- Deuil Montmagny \nNiveau de difficulté : 1-2 / Distance : 7 km
URL:https://acal-deuillabarre.fr/event/foret-ecouen-rando-douce-2/
LOCATION:Gare Deuil-Montmagny\, 16 Avenue du Commandant Manoukian\, Deuil-la Barre\, 95170\, France
CATEGORIES:Rando Douce
END:VEVENT
BEGIN:VEVENT
DTSTART;TZID=Europe/Paris:20241208T090000
DTEND;TZID=Europe/Paris:20241208T123000
DTSTAMP:20260424T194047
CREATED:20241203T202118Z
LAST-MODIFIED:20241204T172706Z
UID:15916-1733648400-1733661000@acal-deuillabarre.fr
SUMMARY:RANDO DOUCE la marina de l'Isle -Adam
DESCRIPTION:Jean Pierre  nous promènera à la marina de l’Isle Adam. \nRdv1: parking de la mairie à 9h00. \nRdv2 : 9h40 sur le parking de la plage de l’Isle -Adam 95290.  \nNiveau de difficulté : 1 / 2 Distance : 7 km / Covoiturage : 3€ \n  \n 
URL:https://acal-deuillabarre.fr/event/rando-douce-la-marina-de-lisle-adam/
LOCATION:Paking plage Isle Adam\, parking plage\, Isle Adam\, 95290\, France
CATEGORIES:Rando Douce
END:VEVENT
BEGIN:VEVENT
DTSTART;TZID=Europe/Paris:20241215T090000
DTEND;TZID=Europe/Paris:20241215T123000
DTSTAMP:20260424T194047
CREATED:20241211T155708Z
LAST-MODIFIED:20241212T112654Z
UID:16136-1734253200-1734265800@acal-deuillabarre.fr
SUMMARY:RANDO DOUCE - Le parc Georges Valbon
DESCRIPTION:Jean Pierre nous promènera au Parc Georges Valbon \nRV 1 : 9h00 devant la gare Epinay Villetaneuse \nPrendre un AR Epinay Villetaneuse – La Cerisaie T11 \nRV 2 : 9h15 gare de Stains La Cerisaie \nNiveau de difficulté : 1 / Distance : 7 km \n  \n  \n 
URL:https://acal-deuillabarre.fr/event/rando-douce-le-parc-georges-valbon-2/
LOCATION:Gare de Stains La Cerisaie\, Stains La Cerisaie\, Stains\, 93240\, France
CATEGORIES:Rando Douce
END:VEVENT
BEGIN:VEVENT
DTSTART;TZID=Europe/Paris:20241222T093000
DTEND;TZID=Europe/Paris:20241222T123000
DTSTAMP:20260424T194047
CREATED:20241219T111659Z
LAST-MODIFIED:20241219T111659Z
UID:16251-1734859800-1734870600@acal-deuillabarre.fr
SUMMARY:RANDO DOUCE - Visite Paris : Vitrines et Passages couverts
DESCRIPTION:Françoise nous promènera à Paris voir les vitrines et les passages couverts  \nRV : 9h30 à la gare du nord\, devant la voie 34  \nPrendre un AR Paris \nNiveau de difficulté : 1 / Distance : 7 km \n  \n  \n 
URL:https://acal-deuillabarre.fr/event/rando-douce-paris-vitrines-et-passages-couverts/
LOCATION:Gare du Nord\, rue de Dunkerque\, PARIS\, 75010\, France
CATEGORIES:Rando Douce
END:VEVENT
END:VCALENDAR