BEGIN:VCALENDAR
VERSION:2.0
PRODID:-//ACAL Deuil La Barre - ECPv6.15.20//NONSGML v1.0//EN
CALSCALE:GREGORIAN
METHOD:PUBLISH
X-WR-CALNAME:ACAL Deuil La Barre
X-ORIGINAL-URL:https://acal-deuillabarre.fr
X-WR-CALDESC:Évènements pour ACAL Deuil La Barre
REFRESH-INTERVAL;VALUE=DURATION:PT1H
X-Robots-Tag:noindex
X-PUBLISHED-TTL:PT1H
BEGIN:VTIMEZONE
TZID:Europe/Paris
BEGIN:DAYLIGHT
TZOFFSETFROM:+0100
TZOFFSETTO:+0200
TZNAME:CEST
DTSTART:20230326T010000
END:DAYLIGHT
BEGIN:STANDARD
TZOFFSETFROM:+0200
TZOFFSETTO:+0100
TZNAME:CET
DTSTART:20231029T010000
END:STANDARD
BEGIN:DAYLIGHT
TZOFFSETFROM:+0100
TZOFFSETTO:+0200
TZNAME:CEST
DTSTART:20240331T010000
END:DAYLIGHT
BEGIN:STANDARD
TZOFFSETFROM:+0200
TZOFFSETTO:+0100
TZNAME:CET
DTSTART:20241027T010000
END:STANDARD
BEGIN:DAYLIGHT
TZOFFSETFROM:+0100
TZOFFSETTO:+0200
TZNAME:CEST
DTSTART:20250330T010000
END:DAYLIGHT
BEGIN:STANDARD
TZOFFSETFROM:+0200
TZOFFSETTO:+0100
TZNAME:CET
DTSTART:20251026T010000
END:STANDARD
END:VTIMEZONE
BEGIN:VEVENT
DTSTART;TZID=Europe/Paris:20241110T090000
DTEND;TZID=Europe/Paris:20241110T123000
DTSTAMP:20260424T210944
CREATED:20241104T102652Z
LAST-MODIFIED:20241104T102652Z
UID:15592-1731229200-1731241800@acal-deuillabarre.fr
SUMMARY:RANDO DOUCE - Le quartier Montparnasse
DESCRIPTION:Françoise nous fera visiter ce quartier où se rencontraient les artistes ainsi que le cimetière où reposent de nombreuses personnalités \nRdv : à la gare du Nord  à 9h30 devant la voie 34 \nPrendre un billet Aller/Retour Paris \n  \nNiveau de difficulté : 1 / Distance : 7 km \n 
URL:https://acal-deuillabarre.fr/event/rando-douce-le-quartier-montparnasse/
LOCATION:Gare du Nord\, rue de Dunkerque\, PARIS\, 75010\, France
CATEGORIES:Rando Douce,RPMN
END:VEVENT
BEGIN:VEVENT
DTSTART;TZID=Europe/Paris:20241117T090000
DTEND;TZID=Europe/Paris:20241117T123000
DTSTAMP:20260424T210944
CREATED:20241113T134430Z
LAST-MODIFIED:20241113T134430Z
UID:15708-1731834000-1731846600@acal-deuillabarre.fr
SUMMARY:RANDO DOUCE en Forêt de L'Isle Adam Ouest
DESCRIPTION:Cyril nous promènera dans la forêt de L’Isle Adam Ouest \nRdv 1 : Parking de à la mairie à 9h00. \nRdv 2 : Parking à gauche juste avant l’obélisque sur la D64 en venant de l’A16 à 9h30 \nCovoiturage : 3 € \nNiveau de difficulté : 1 / Distance : 7 km \n  \n  \n 
URL:https://acal-deuillabarre.fr/event/rando-douce-en-foret-de-lisle-adam-ouest/
LOCATION:Parking de la Marie\, 36 rue Charles de Gaulle\, Deuil La Barre\, 95170\, France
CATEGORIES:Rando Douce
END:VEVENT
BEGIN:VEVENT
DTSTART;TZID=Europe/Paris:20241124T090000
DTEND;TZID=Europe/Paris:20241124T123000
DTSTAMP:20260424T210944
CREATED:20241119T140109Z
LAST-MODIFIED:20241119T152329Z
UID:15772-1732438800-1732451400@acal-deuillabarre.fr
SUMMARY:RANDO DOUCE- Autour de Baillet en France
DESCRIPTION:Françoise vous fera découvrir le parc du château de Baillet transformé en centre de vacances\, ensuite vous monterez en forêt jusqu’au château de Maffliers et le Novotel avant de redescendre en traversant le village de Montsoult. \n  \nRdv 1 : Parking de à la mairie à 9h00. \nRdv 2 : Parking de la mairie à 9h30 1 rue Jean Nicolas à Baillet (95560). \nCovoiturage : 2 € \nNiveau de difficulté : 1-2 / Distance :  8 km
URL:https://acal-deuillabarre.fr/event/rando-douce-au-parc-du-chateau-de-baillet/
LOCATION:Paking plage Isle Adam\, parking plage\, Isle Adam\, 95290\, France
CATEGORIES:Rando Douce
END:VEVENT
END:VCALENDAR