BEGIN:VCALENDAR
VERSION:2.0
PRODID:-//ACAL Deuil La Barre - ECPv6.15.20//NONSGML v1.0//EN
CALSCALE:GREGORIAN
METHOD:PUBLISH
X-WR-CALNAME:ACAL Deuil La Barre
X-ORIGINAL-URL:https://acal-deuillabarre.fr
X-WR-CALDESC:Évènements pour ACAL Deuil La Barre
REFRESH-INTERVAL;VALUE=DURATION:PT1H
X-Robots-Tag:noindex
X-PUBLISHED-TTL:PT1H
BEGIN:VTIMEZONE
TZID:Europe/Paris
BEGIN:DAYLIGHT
TZOFFSETFROM:+0100
TZOFFSETTO:+0200
TZNAME:CEST
DTSTART:20230326T010000
END:DAYLIGHT
BEGIN:STANDARD
TZOFFSETFROM:+0200
TZOFFSETTO:+0100
TZNAME:CET
DTSTART:20231029T010000
END:STANDARD
BEGIN:DAYLIGHT
TZOFFSETFROM:+0100
TZOFFSETTO:+0200
TZNAME:CEST
DTSTART:20240331T010000
END:DAYLIGHT
BEGIN:STANDARD
TZOFFSETFROM:+0200
TZOFFSETTO:+0100
TZNAME:CET
DTSTART:20241027T010000
END:STANDARD
BEGIN:DAYLIGHT
TZOFFSETFROM:+0100
TZOFFSETTO:+0200
TZNAME:CEST
DTSTART:20250330T010000
END:DAYLIGHT
BEGIN:STANDARD
TZOFFSETFROM:+0200
TZOFFSETTO:+0100
TZNAME:CET
DTSTART:20251026T010000
END:STANDARD
END:VTIMEZONE
BEGIN:VEVENT
DTSTART;TZID=Europe/Paris:20240915T090000
DTEND;TZID=Europe/Paris:20240915T123000
DTSTAMP:20260425T004851
CREATED:20240911T151135Z
LAST-MODIFIED:20240911T151454Z
UID:15078-1726390800-1726403400@acal-deuillabarre.fr
SUMMARY:RANDO DOUCE Pissaro à Pontoise
DESCRIPTION:Françoise nous fait une rando Pissaro à Pontoise. \nRdv1 : Parking de la Mairie à 9h \nRdv2 : Sur place Rue des Jardins et Rue des Roches Valhermeil Auvers sur Oise à 9h30 \nNiveau de difficulté : 1/2 Distance : 8 km \nCovoiturage : 3€ \nLes Bâtons sont conseillés. La montée peut être glissante par temps de pluie et la descente vers Pontoise se fait par un escalier rustique \n  \n 
URL:https://acal-deuillabarre.fr/event/rando-douce-pissaro-pontoise/
LOCATION:Parking du golf international\, Allée du golf\, Roissy en France\, 95700\, France
CATEGORIES:Rando Douce
END:VEVENT
BEGIN:VEVENT
DTSTART;TZID=Europe/Paris:20240929T090000
DTEND;TZID=Europe/Paris:20240929T123000
DTSTAMP:20260425T004851
CREATED:20240923T150452Z
LAST-MODIFIED:20240923T150452Z
UID:15166-1727600400-1727613000@acal-deuillabarre.fr
SUMMARY:RANDO DOUCE Promenade sur l ile de la Jatte et le quartier de la Défense
DESCRIPTION:Françoise nous emmène faire une balade sur l’île de la Jatte et nous fais découvrir le quartier de la défense \nRdv : à la gare du Nord devant la voie 34 à 9h \nPrendre un billet Aller/Retour Paris \nNiveau de difficulté : 1 / Distance : 7 km
URL:https://acal-deuillabarre.fr/event/rando-douce-promenade-sur-l-ile-de-la-jatte-et-la-defense/
LOCATION:Gare du Nord\, rue de Dunkerque\, PARIS\, 75010\, France
CATEGORIES:Rando Douce
END:VEVENT
END:VCALENDAR