BEGIN:VCALENDAR
VERSION:2.0
PRODID:-//ACAL Deuil La Barre - ECPv6.15.20//NONSGML v1.0//EN
CALSCALE:GREGORIAN
METHOD:PUBLISH
X-ORIGINAL-URL:https://acal-deuillabarre.fr
X-WR-CALDESC:Évènements pour ACAL Deuil La Barre
REFRESH-INTERVAL;VALUE=DURATION:PT1H
X-Robots-Tag:noindex
X-PUBLISHED-TTL:PT1H
BEGIN:VTIMEZONE
TZID:Europe/Paris
BEGIN:DAYLIGHT
TZOFFSETFROM:+0100
TZOFFSETTO:+0200
TZNAME:CEST
DTSTART:20240331T010000
END:DAYLIGHT
BEGIN:STANDARD
TZOFFSETFROM:+0200
TZOFFSETTO:+0100
TZNAME:CET
DTSTART:20241027T010000
END:STANDARD
BEGIN:DAYLIGHT
TZOFFSETFROM:+0100
TZOFFSETTO:+0200
TZNAME:CEST
DTSTART:20250330T010000
END:DAYLIGHT
BEGIN:STANDARD
TZOFFSETFROM:+0200
TZOFFSETTO:+0100
TZNAME:CET
DTSTART:20251026T010000
END:STANDARD
BEGIN:DAYLIGHT
TZOFFSETFROM:+0100
TZOFFSETTO:+0200
TZNAME:CEST
DTSTART:20260329T010000
END:DAYLIGHT
BEGIN:STANDARD
TZOFFSETFROM:+0200
TZOFFSETTO:+0100
TZNAME:CET
DTSTART:20261025T010000
END:STANDARD
END:VTIMEZONE
BEGIN:VEVENT
DTSTART;TZID=Europe/Paris:20250125T090000
DTEND;TZID=Europe/Paris:20250125T123000
DTSTAMP:20260421T074719
CREATED:20250119T093521Z
LAST-MODIFIED:20250119T093521Z
UID:16398-1737795600-1737808200@acal-deuillabarre.fr
SUMMARY:MARCHE NORDIQUE  Circuit en forêt de L'Isle Adam Est
DESCRIPTION:Rendez-vous pour un départ à 9h00 sur le parking de la mairie. \nRendez-vous sur place à 9h30 sur  le parking de la Maison Forestière du Bois Carreau. \nCoût du covoiturage à remettre au chauffeur : 3€ \nContacter : Bruno 06 65 34 05 38 ou Cyril 06 61 87 21 98 ou Fatna 06 28 07 26 08.
URL:https://acal-deuillabarre.fr/event/marche-nordique-circuit-en-foret-de-lisle-adam-est/
LOCATION:le parking de la Maison Forestière Nerville la forêt\, 97 D64\, Nerville-la-Forêt\, 95590\, France
CATEGORIES:Marche Nordique,RPMN
END:VEVENT
END:VCALENDAR