BEGIN:VCALENDAR
VERSION:2.0
PRODID:-//ACAL Deuil La Barre - ECPv6.15.20//NONSGML v1.0//EN
CALSCALE:GREGORIAN
METHOD:PUBLISH
X-WR-CALNAME:ACAL Deuil La Barre
X-ORIGINAL-URL:https://acal-deuillabarre.fr
X-WR-CALDESC:Évènements pour ACAL Deuil La Barre
REFRESH-INTERVAL;VALUE=DURATION:PT1H
X-Robots-Tag:noindex
X-PUBLISHED-TTL:PT1H
BEGIN:VTIMEZONE
TZID:Europe/Paris
BEGIN:DAYLIGHT
TZOFFSETFROM:+0100
TZOFFSETTO:+0200
TZNAME:CEST
DTSTART:20240331T010000
END:DAYLIGHT
BEGIN:STANDARD
TZOFFSETFROM:+0200
TZOFFSETTO:+0100
TZNAME:CET
DTSTART:20241027T010000
END:STANDARD
BEGIN:DAYLIGHT
TZOFFSETFROM:+0100
TZOFFSETTO:+0200
TZNAME:CEST
DTSTART:20250330T010000
END:DAYLIGHT
BEGIN:STANDARD
TZOFFSETFROM:+0200
TZOFFSETTO:+0100
TZNAME:CET
DTSTART:20251026T010000
END:STANDARD
BEGIN:DAYLIGHT
TZOFFSETFROM:+0100
TZOFFSETTO:+0200
TZNAME:CEST
DTSTART:20260329T010000
END:DAYLIGHT
BEGIN:STANDARD
TZOFFSETFROM:+0200
TZOFFSETTO:+0100
TZNAME:CET
DTSTART:20261025T010000
END:STANDARD
END:VTIMEZONE
BEGIN:VEVENT
DTSTART;TZID=Europe/Paris:20250510T090000
DTEND;TZID=Europe/Paris:20250510T123000
DTSTAMP:20260420T235851
CREATED:20250404T065549Z
LAST-MODIFIED:20250404T065549Z
UID:17036-1746867600-1746880200@acal-deuillabarre.fr
SUMMARY:MARCHE NORDIQUE Circuit en forêt de Carnelle
DESCRIPTION:  \nRendez-vous pour un départ à 9h00 sur le parking de la mairie. \nRendez-vous sur place à 9h30 sur le premier parking après St Martin du Tertre direction Beaumont sur la D85. \nDistance: 11 km. \nCoût du covoiturage à remettre au chauffeur : 3€ \nLes bâtons seront fournis aux débutants (10 maximum/séance). \n  \nContacter \n  \nBruno 06 65 34 05 38  \n  \nCyril 06 61 87 21 98 \n  \nFatna 06 28 07 26 08.
URL:https://acal-deuillabarre.fr/event/marche-nordique-circuit-en-foret-de-carnelle-10/
CATEGORIES:Marche Nordique,RPMN
END:VEVENT
BEGIN:VEVENT
DTSTART;TZID=Europe/Paris:20250522T090000
DTEND;TZID=Europe/Paris:20250522T123000
DTSTAMP:20260420T235851
CREATED:20250513T141132Z
LAST-MODIFIED:20250513T141132Z
UID:17311-1747904400-1747917000@acal-deuillabarre.fr
SUMMARY:MARCHE NORDIQUE - Luzarches - Nouvelle activité
DESCRIPTION:Rendez-vous pour un départ à 9h00 sur le parking de la mairie. \nRendez-vous sur place à 9h30 sur le bas côté avant la ferme d’Hérivaux. \nCoût du covoiturage : 3€ \nDistance : 7 km \nLes bâtons seront fournis aux débutants (6 maximum/séance). \nContacter :\n \nNaïma  06 70 01 10 15\n \nMichel  06 85 80 00 34
URL:https://acal-deuillabarre.fr/event/marche-nordique-luzarches-nouvelle-activite/
LOCATION:Ferme d’Hérivaux\, Luzarches\, 95270\, France
CATEGORIES:Marche Nordique,RPMN
END:VEVENT
BEGIN:VEVENT
DTSTART;TZID=Europe/Paris:20250531T090000
DTEND;TZID=Europe/Paris:20250531T123000
DTSTAMP:20260420T235851
CREATED:20250404T070747Z
LAST-MODIFIED:20250404T070747Z
UID:17044-1748682000-1748694600@acal-deuillabarre.fr
SUMMARY:MARCHE NORDIQUE - Luzarches
DESCRIPTION:Rendez-vous pour un départ à 9h00 sur le parking de la mairie. \nRendez-vous sur place à 9h30  sur le parking de la Route d’Hérivaux à Luzarches à hauteur du panneau d’entrée d’Hérivaux. \nCoût du covoiturage à remettre au chauffeur : 3€ \nDistance : 11 km \n  \nLes bâtons seront fournis aux débutants (10 maximum/séance). \nContacter :\n \nBruno 06 65 34 05 38\n \nCyril  06 61 87 21 98\n \nFatna 06 28 07 26 08.
URL:https://acal-deuillabarre.fr/event/marche-nordique-luzarches-7/
LOCATION:Luzarches\, Route d'Hérivaux\, Luzarches\, Val d'Oise\, 95270\, France
CATEGORIES:Marche Nordique
END:VEVENT
END:VCALENDAR