BEGIN:VCALENDAR
VERSION:2.0
PRODID:-//ACAL Deuil La Barre - ECPv6.15.20//NONSGML v1.0//EN
CALSCALE:GREGORIAN
METHOD:PUBLISH
X-WR-CALNAME:ACAL Deuil La Barre
X-ORIGINAL-URL:https://acal-deuillabarre.fr
X-WR-CALDESC:Évènements pour ACAL Deuil La Barre
REFRESH-INTERVAL;VALUE=DURATION:PT1H
X-Robots-Tag:noindex
X-PUBLISHED-TTL:PT1H
BEGIN:VTIMEZONE
TZID:Europe/Paris
BEGIN:DAYLIGHT
TZOFFSETFROM:+0100
TZOFFSETTO:+0200
TZNAME:CEST
DTSTART:20220327T010000
END:DAYLIGHT
BEGIN:STANDARD
TZOFFSETFROM:+0200
TZOFFSETTO:+0100
TZNAME:CET
DTSTART:20221030T010000
END:STANDARD
BEGIN:DAYLIGHT
TZOFFSETFROM:+0100
TZOFFSETTO:+0200
TZNAME:CEST
DTSTART:20230326T010000
END:DAYLIGHT
BEGIN:STANDARD
TZOFFSETFROM:+0200
TZOFFSETTO:+0100
TZNAME:CET
DTSTART:20231029T010000
END:STANDARD
BEGIN:DAYLIGHT
TZOFFSETFROM:+0100
TZOFFSETTO:+0200
TZNAME:CEST
DTSTART:20240331T010000
END:DAYLIGHT
BEGIN:STANDARD
TZOFFSETFROM:+0200
TZOFFSETTO:+0100
TZNAME:CET
DTSTART:20241027T010000
END:STANDARD
END:VTIMEZONE
BEGIN:VEVENT
DTSTART;TZID=Europe/Paris:20230903T100000
DTEND;TZID=Europe/Paris:20230903T180000
DTSTAMP:20260421T090829
CREATED:20230901T135315Z
LAST-MODIFIED:20230902T173821Z
UID:9981-1693735200-1693764000@acal-deuillabarre.fr
SUMMARY:JOURNEE ACCÈS ASSOS
DESCRIPTION:JOURNÉE ACCÈS ASSOS À DEUIL-LA BARRE\n\ndimanche 03 septembre 2023 \n\n\n\n\nL’ACAL participera à cet événement et tiendra un stand au stade Jean Bouin de 10h00 à 18h00 avec les animations suivants : \n\njeux d’échecs toute la journée\ndépart de rando douce à 14h30 (circuit d’une heure environ)\ndépart de marche nordique à 15h00 (circuit d’une heure environ) \n\nCette manifestation est très importante pour notre association et nous vous demandons de venir nombreux sur notre stand pour soutenir les bénévoles et partager vos expériences avec le public.
URL:https://acal-deuillabarre.fr/event/dimanche-03-septembre-2023-journee-acces-assos/
LOCATION:stade Jean Bouin Deuil-La Barre\, 6\, rue Jean Bouin\, DEUIL LA BARRE\, 95170\, France
CATEGORIES:ACAL
ORGANIZER;CN="ACAL":MAILTO:acal@acal-deuillabarre.fr
END:VEVENT
END:VCALENDAR