BEGIN:VCALENDAR
VERSION:2.0
PRODID:-//ACAL Deuil La Barre - ECPv6.15.20//NONSGML v1.0//EN
CALSCALE:GREGORIAN
METHOD:PUBLISH
X-WR-CALNAME:ACAL Deuil La Barre
X-ORIGINAL-URL:https://acal-deuillabarre.fr
X-WR-CALDESC:Évènements pour ACAL Deuil La Barre
REFRESH-INTERVAL;VALUE=DURATION:PT1H
X-Robots-Tag:noindex
X-PUBLISHED-TTL:PT1H
BEGIN:VTIMEZONE
TZID:Europe/Paris
BEGIN:DAYLIGHT
TZOFFSETFROM:+0100
TZOFFSETTO:+0200
TZNAME:CEST
DTSTART:20250330T010000
END:DAYLIGHT
BEGIN:STANDARD
TZOFFSETFROM:+0200
TZOFFSETTO:+0100
TZNAME:CET
DTSTART:20251026T010000
END:STANDARD
BEGIN:DAYLIGHT
TZOFFSETFROM:+0100
TZOFFSETTO:+0200
TZNAME:CEST
DTSTART:20260329T010000
END:DAYLIGHT
BEGIN:STANDARD
TZOFFSETFROM:+0200
TZOFFSETTO:+0100
TZNAME:CET
DTSTART:20261025T010000
END:STANDARD
BEGIN:DAYLIGHT
TZOFFSETFROM:+0100
TZOFFSETTO:+0200
TZNAME:CEST
DTSTART:20270328T010000
END:DAYLIGHT
BEGIN:STANDARD
TZOFFSETFROM:+0200
TZOFFSETTO:+0100
TZNAME:CET
DTSTART:20271031T010000
END:STANDARD
END:VTIMEZONE
BEGIN:VEVENT
DTSTART;TZID=Europe/Paris:20260426T083000
DTEND;TZID=Europe/Paris:20260426T133000
DTSTAMP:20260426T022203
CREATED:20260421T104105Z
LAST-MODIFIED:20260422T102714Z
UID:19465-1777192200-1777210200@acal-deuillabarre.fr
SUMMARY:RANDO PEDESTRE - Fête de l'andouille à Cramoisy (60)
DESCRIPTION:Fête de l’andouille 2026-cramoisy \nRandonnée commune avec la randonnée douce\nNaïma vous emmènera à Cramoisy sur un circuit balisé par le club local; un ravitaillement est prévu à mi-parcours. \nRendez-vous parking de la mairie de Deuil la Barre à 8h30  \nRendez-vous sur place à 9h15 à la Salle des fêtes de Cramoisy \nCovoiturage : 6 € Distance:  8-11 Difficulté 1/2 \nParticipation à la rando : 6 € (hors participation Acal ) \nPS: prévoyez de la monnaie pas de billets des pièces de 1 ou 2 euros. \nPas d’inscription individuelle\, l’ACAL se charge de tout après collecte sur les parkings. \n 
URL:https://acal-deuillabarre.fr/event/rando-pedestre-fete-de-landouille/
LOCATION:Salle des fêtes\, rue du pont\, Cramoisy\, 60660\, France
CATEGORIES:ACAL,Randonnée Pédestre,RPMN
END:VEVENT
END:VCALENDAR